BEGIN:VCALENDAR
VERSION:2.0
PRODID:-//Obec Světlá - ECPv5.5.0.1//NONSGML v1.0//EN
CALSCALE:GREGORIAN
METHOD:PUBLISH
X-WR-CALNAME:Obec Světlá
X-ORIGINAL-URL:https://www.obecsvetla.cz
X-WR-CALDESC:Akce na Obec Světlá
BEGIN:VTIMEZONE
TZID:Europe/Prague
BEGIN:DAYLIGHT
TZOFFSETFROM:+0100
TZOFFSETTO:+0200
TZNAME:CEST
DTSTART:20210328T010000
END:DAYLIGHT
BEGIN:STANDARD
TZOFFSETFROM:+0200
TZOFFSETTO:+0100
TZNAME:CET
DTSTART:20211031T010000
END:STANDARD
END:VTIMEZONE
BEGIN:VEVENT
DTSTART;VALUE=DATE:20210731
DTEND;VALUE=DATE:20210801
DTSTAMP:20260424T173322
CREATED:20210729T205459Z
LAST-MODIFIED:20210729T205459Z
UID:2329-1627689600-1627775999@www.obecsvetla.cz
SUMMARY:Jarmark ve Vanovicích
DESCRIPTION:Plakát Jarmark
URL:https://www.obecsvetla.cz/event/jarmark-ve-vanovicich/
LOCATION:Vanovice\, Vanovice\, Vanovice\, Jihomoravský\, 679 36\, Česká republika
END:VEVENT
BEGIN:VEVENT
DTSTART;VALUE=DATE:20210814
DTEND;VALUE=DATE:20210815
DTSTAMP:20260424T173322
CREATED:20210706T182449Z
LAST-MODIFIED:20210706T182449Z
UID:2261-1628899200-1628985599@www.obecsvetla.cz
SUMMARY:Světelská pouť 2021
DESCRIPTION:Pátek fotbal? \nSobota čoch (hraje ABC) \nNeděle mše + posezení na výletišti
URL:https://www.obecsvetla.cz/event/svetelska-pout-2021/
LOCATION:Světlá – úřad\, Světlá 55\, Světlá\, Jihomoravský\, 679 63\, Česká republika
ATTACH;FMTTYPE=image/jpeg:https://www.obecsvetla.cz/wp-content/uploads/2021/07/Svetelska-pout.jpg
END:VEVENT
BEGIN:VEVENT
DTSTART;TZID=Europe/Prague:20210821T110000
DTEND;TZID=Europe/Prague:20210821T233000
DTSTAMP:20260424T173322
CREATED:20210811T184227Z
LAST-MODIFIED:20210811T184227Z
UID:2370-1629543600-1629588600@www.obecsvetla.cz
SUMMARY:Oslavy 140 let založení SDH v Cetkovicích
DESCRIPTION:11:00 Mše \n12:00 Slavnostní schůze \n14:30 ukázky techniky \n16:30 slavnostní průvod \n18:00 taneční zábava
URL:https://www.obecsvetla.cz/event/oslavy-140-let-zalozeni-sdh-v-cetkovicich/
LOCATION:Cetkovice\, Cetkovice\, Jihomoravský\, 679 38\, Česká republika
END:VEVENT
BEGIN:VEVENT
DTSTART;VALUE=DATE:20210828
DTEND;VALUE=DATE:20210829
DTSTAMP:20260424T173322
CREATED:20210706T183013Z
LAST-MODIFIED:20210816T141756Z
UID:2264-1630108800-1630195199@www.obecsvetla.cz
SUMMARY:Cyklovýlet Okolo Malé Hané 2021
DESCRIPTION:Tentokrát ze Šebetova. \nLosy do tomboly (hlavní cena elektrokolo) v hodnotě 50 Kč jsou k dispozici u starosty obce Světlá. \nINFO: \nhttps://www.okolomalehane.cz/index.php?mid=11 \nA3 cyklovylet 2021 \nPlakát Artcamp Borotín:
URL:https://www.obecsvetla.cz/event/cyklovylet-okolo-male-hane-2021/
LOCATION:šebetov\, Šebetov\, Jihomoravský\, 679 35\, Česká republika
ATTACH;FMTTYPE=image/jpeg:https://www.obecsvetla.cz/wp-content/uploads/2021/07/cyklovylet.jpg
END:VEVENT
BEGIN:VEVENT
DTSTART;VALUE=DATE:20210904
DTEND;VALUE=DATE:20210905
DTSTAMP:20260424T173322
CREATED:20210823T144149Z
LAST-MODIFIED:20210823T144149Z
UID:2402-1630713600-1630799999@www.obecsvetla.cz
SUMMARY:Pochod po R43
DESCRIPTION:Klub českých turistů Boskovice\nve spolupráci s dalšími partnery\npořádá v sobotu 4. září 2021 \npochod po dálničním tělese R43 \nPochod-R43-2021-nahled2
URL:https://www.obecsvetla.cz/event/pochod-po-r43/
LOCATION:Světlá – úřad\, Světlá 55\, Světlá\, Jihomoravský\, 679 63\, Česká republika
END:VEVENT
END:VCALENDAR