BEGIN:VCALENDAR
VERSION:2.0
PRODID:-//Obec Světlá - ECPv5.5.0.1//NONSGML v1.0//EN
CALSCALE:GREGORIAN
METHOD:PUBLISH
X-WR-CALNAME:Obec Světlá
X-ORIGINAL-URL:https://www.obecsvetla.cz
X-WR-CALDESC:Akce na Obec Světlá
BEGIN:VTIMEZONE
TZID:Europe/Prague
BEGIN:DAYLIGHT
TZOFFSETFROM:+0100
TZOFFSETTO:+0200
TZNAME:CEST
DTSTART:20210328T010000
END:DAYLIGHT
BEGIN:STANDARD
TZOFFSETFROM:+0200
TZOFFSETTO:+0100
TZNAME:CET
DTSTART:20211031T010000
END:STANDARD
BEGIN:DAYLIGHT
TZOFFSETFROM:+0100
TZOFFSETTO:+0200
TZNAME:CEST
DTSTART:20220327T010000
END:DAYLIGHT
BEGIN:STANDARD
TZOFFSETFROM:+0200
TZOFFSETTO:+0100
TZNAME:CET
DTSTART:20221030T010000
END:STANDARD
END:VTIMEZONE
BEGIN:VEVENT
DTSTART;TZID=Europe/Prague:20211227T100000
DTEND;TZID=Europe/Prague:20211227T180000
DTSTAMP:20260424T085213
CREATED:20211218T125303Z
LAST-MODIFIED:20211218T125303Z
UID:3008-1640599200-1640628000@www.obecsvetla.cz
SUMMARY:Turnaj ve stolním tenise
DESCRIPTION:
URL:https://www.obecsvetla.cz/event/turnaj-ve-stolnim-tenise/
LOCATION:Světlá – úřad\, Světlá 55\, Světlá\, Jihomoravský\, 679 63\, Česká republika
ATTACH;FMTTYPE=image/jpeg:https://www.obecsvetla.cz/wp-content/uploads/2021/12/pinec.jpg
END:VEVENT
BEGIN:VEVENT
DTSTART;TZID=Europe/Prague:20211229T180000
DTEND;TZID=Europe/Prague:20211229T200000
DTSTAMP:20260424T085213
CREATED:20211221T070959Z
LAST-MODIFIED:20211221T070959Z
UID:3026-1640800800-1640808000@www.obecsvetla.cz
SUMMARY:Výroční schůze SDH Světlá
DESCRIPTION:
URL:https://www.obecsvetla.cz/event/vyrocni-schuze-sdh-svetla/
LOCATION:Světlá – úřad\, Světlá 55\, Světlá\, Jihomoravský\, 679 63\, Česká republika
ATTACH;FMTTYPE=image/jpeg:https://www.obecsvetla.cz/wp-content/uploads/2021/12/pozvanka-na-schuzi-2021-velka.jpg
END:VEVENT
BEGIN:VEVENT
DTSTART;TZID=Europe/Prague:20220101T180000
DTEND;TZID=Europe/Prague:20220101T183000
DTSTAMP:20260424T085213
CREATED:20211223T194312Z
LAST-MODIFIED:20211223T194312Z
UID:3034-1641060000-1641061800@www.obecsvetla.cz
SUMMARY:Novoroční přípitek s ohňostrojem
DESCRIPTION:
URL:https://www.obecsvetla.cz/event/novorocni-pripitek-s-ohnostrojem/
LOCATION:Světlá – úřad\, Světlá 55\, Světlá\, Jihomoravský\, 679 63\, Česká republika
ATTACH;FMTTYPE=image/jpeg:https://www.obecsvetla.cz/wp-content/uploads/2021/12/plakat-ohnostroj-rotated.jpg
END:VEVENT
BEGIN:VEVENT
DTSTART;TZID=Europe/Prague:20220109T140000
DTEND;TZID=Europe/Prague:20220109T170000
DTSTAMP:20260424T085213
CREATED:20220109T085337Z
LAST-MODIFIED:20220109T085337Z
UID:3089-1641736800-1641747600@www.obecsvetla.cz
SUMMARY:Tříkrálová sbírka
DESCRIPTION:
URL:https://www.obecsvetla.cz/event/trikralova-sbirka/
LOCATION:Světlá – úřad\, Světlá 55\, Světlá\, Jihomoravský\, 679 63\, Česká republika
ATTACH;FMTTYPE=image/jpeg:https://www.obecsvetla.cz/wp-content/uploads/2022/01/kralove.jpg
END:VEVENT
BEGIN:VEVENT
DTSTART;TZID=Europe/Prague:20220205T060000
DTEND;TZID=Europe/Prague:20220205T180000
DTSTAMP:20260424T085213
CREATED:20220111T195412Z
LAST-MODIFIED:20220111T195412Z
UID:3171-1644040800-1644084000@www.obecsvetla.cz
SUMMARY:Opatovské šmajd
DESCRIPTION:
URL:https://www.obecsvetla.cz/event/opatovske-smajd/
LOCATION:Velké Opatovice\, V. Opatovice\, V. Opatovice\, Jihomoravský\, Česká republika
ATTACH;FMTTYPE=image/jpeg:https://www.obecsvetla.cz/wp-content/uploads/2022/01/smajd.jpg
END:VEVENT
END:VCALENDAR