BEGIN:VCALENDAR
VERSION:2.0
PRODID:-//Obec Světlá - ECPv5.5.0.1//NONSGML v1.0//EN
CALSCALE:GREGORIAN
METHOD:PUBLISH
X-WR-CALNAME:Obec Světlá
X-ORIGINAL-URL:https://www.obecsvetla.cz
X-WR-CALDESC:Akce na Obec Světlá
BEGIN:VTIMEZONE
TZID:Europe/Prague
BEGIN:DAYLIGHT
TZOFFSETFROM:+0100
TZOFFSETTO:+0200
TZNAME:CEST
DTSTART:20220327T010000
END:DAYLIGHT
BEGIN:STANDARD
TZOFFSETFROM:+0200
TZOFFSETTO:+0100
TZNAME:CET
DTSTART:20221030T010000
END:STANDARD
END:VTIMEZONE
BEGIN:VEVENT
DTSTART;TZID=Europe/Prague:20221210T130000
DTEND;TZID=Europe/Prague:20221210T170000
DTSTAMP:20260423T145152
CREATED:20221207T193241Z
LAST-MODIFIED:20221207T193241Z
UID:4103-1670677200-1670691600@www.obecsvetla.cz
SUMMARY:Mikulášský běh Světlou 2022
DESCRIPTION:
URL:https://www.obecsvetla.cz/event/mikulassky-beh-svetlou-2022/
LOCATION:Světlá 55\, Světlá\, Jihomoravský\, 679 63\, Česká republika
END:VEVENT
BEGIN:VEVENT
DTSTART;TZID=Europe/Prague:20221216T170000
DTEND;TZID=Europe/Prague:20221216T200000
DTSTAMP:20260423T145152
CREATED:20221207T193347Z
LAST-MODIFIED:20221207T193347Z
UID:4105-1671210000-1671220800@www.obecsvetla.cz
SUMMARY:Školení řidičů
DESCRIPTION:
URL:https://www.obecsvetla.cz/event/skoleni-ridicu/
LOCATION:Světlá 55\, Světlá\, Jihomoravský\, 679 63\, Česká republika
END:VEVENT
BEGIN:VEVENT
DTSTART;TZID=Europe/Prague:20221218T110000
DTEND;TZID=Europe/Prague:20221218T120000
DTSTAMP:20260423T145152
CREATED:20221207T193439Z
LAST-MODIFIED:20221207T193439Z
UID:4107-1671361200-1671364800@www.obecsvetla.cz
SUMMARY:Předvánoční koledování u kapličky
DESCRIPTION:
URL:https://www.obecsvetla.cz/event/predvanocni-koledovani-u-kaplicky/
LOCATION:Světlá 55\, Světlá\, Jihomoravský\, 679 63\, Česká republika
END:VEVENT
BEGIN:VEVENT
DTSTART;TZID=Europe/Prague:20221224T090000
DTEND;TZID=Europe/Prague:20221224T110000
DTSTAMP:20260423T145152
CREATED:20221207T193523Z
LAST-MODIFIED:20221207T193523Z
UID:4109-1671872400-1671879600@www.obecsvetla.cz
SUMMARY:Vánoční bruslení-stadion Boskovice
DESCRIPTION:
URL:https://www.obecsvetla.cz/event/vanocni-brusleni-stadion-boskovice/
LOCATION:Světlá 55\, Světlá\, Jihomoravský\, 679 63\, Česká republika
END:VEVENT
BEGIN:VEVENT
DTSTART;TZID=Europe/Prague:20221227T190000
DTEND;TZID=Europe/Prague:20221227T210000
DTSTAMP:20260423T145152
CREATED:20221207T193603Z
LAST-MODIFIED:20221207T193603Z
UID:4111-1672167600-1672174800@www.obecsvetla.cz
SUMMARY:Zasedání zastupitelstva obce
DESCRIPTION:
URL:https://www.obecsvetla.cz/event/zasedani-zastupitelstva-obce/
LOCATION:Světlá 55\, Světlá\, Jihomoravský\, 679 63\, Česká republika
END:VEVENT
BEGIN:VEVENT
DTSTART;TZID=Europe/Prague:20221228T090000
DTEND;TZID=Europe/Prague:20221228T180000
DTSTAMP:20260423T145152
CREATED:20221207T193636Z
LAST-MODIFIED:20221207T193636Z
UID:4113-1672218000-1672250400@www.obecsvetla.cz
SUMMARY:Turnaj ve stolním tenise
DESCRIPTION:
URL:https://www.obecsvetla.cz/event/turnaj-ve-stolnim-tenise-2/
LOCATION:Světlá 55\, Světlá\, Jihomoravský\, 679 63\, Česká republika
END:VEVENT
BEGIN:VEVENT
DTSTART;TZID=Europe/Prague:20221229T170000
DTEND;TZID=Europe/Prague:20221229T190000
DTSTAMP:20260423T145152
CREATED:20221207T193721Z
LAST-MODIFIED:20221207T193721Z
UID:4115-1672333200-1672340400@www.obecsvetla.cz
SUMMARY:Výroční schůze SDH Světlá
DESCRIPTION:
URL:https://www.obecsvetla.cz/event/vyrocni-schuze-sdh-svetla-2/
LOCATION:Světlá 55\, Světlá\, Jihomoravský\, 679 63\, Česká republika
END:VEVENT
END:VCALENDAR