BEGIN:VCALENDAR
VERSION:2.0
PRODID:-//Obec Světlá - ECPv5.5.0.1//NONSGML v1.0//EN
CALSCALE:GREGORIAN
METHOD:PUBLISH
X-WR-CALNAME:Obec Světlá
X-ORIGINAL-URL:https://www.obecsvetla.cz
X-WR-CALDESC:Akce na Obec Světlá
BEGIN:VTIMEZONE
TZID:Europe/Prague
BEGIN:DAYLIGHT
TZOFFSETFROM:+0100
TZOFFSETTO:+0200
TZNAME:CEST
DTSTART:20220327T010000
END:DAYLIGHT
BEGIN:STANDARD
TZOFFSETFROM:+0200
TZOFFSETTO:+0100
TZNAME:CET
DTSTART:20221030T010000
END:STANDARD
BEGIN:DAYLIGHT
TZOFFSETFROM:+0100
TZOFFSETTO:+0200
TZNAME:CEST
DTSTART:20230326T010000
END:DAYLIGHT
BEGIN:STANDARD
TZOFFSETFROM:+0200
TZOFFSETTO:+0100
TZNAME:CET
DTSTART:20231029T010000
END:STANDARD
END:VTIMEZONE
BEGIN:VEVENT
DTSTART;TZID=Europe/Prague:20221227T190000
DTEND;TZID=Europe/Prague:20221227T210000
DTSTAMP:20260423T132501
CREATED:20221207T193603Z
LAST-MODIFIED:20221207T193603Z
UID:4111-1672167600-1672174800@www.obecsvetla.cz
SUMMARY:Zasedání zastupitelstva obce
DESCRIPTION:
URL:https://www.obecsvetla.cz/event/zasedani-zastupitelstva-obce/
LOCATION:Světlá 55\, Světlá\, Jihomoravský\, 679 63\, Česká republika
END:VEVENT
BEGIN:VEVENT
DTSTART;TZID=Europe/Prague:20221228T090000
DTEND;TZID=Europe/Prague:20221228T180000
DTSTAMP:20260423T132501
CREATED:20221207T193636Z
LAST-MODIFIED:20221207T193636Z
UID:4113-1672218000-1672250400@www.obecsvetla.cz
SUMMARY:Turnaj ve stolním tenise
DESCRIPTION:
URL:https://www.obecsvetla.cz/event/turnaj-ve-stolnim-tenise-2/
LOCATION:Světlá 55\, Světlá\, Jihomoravský\, 679 63\, Česká republika
END:VEVENT
BEGIN:VEVENT
DTSTART;TZID=Europe/Prague:20221229T170000
DTEND;TZID=Europe/Prague:20221229T190000
DTSTAMP:20260423T132501
CREATED:20221207T193721Z
LAST-MODIFIED:20221207T193721Z
UID:4115-1672333200-1672340400@www.obecsvetla.cz
SUMMARY:Výroční schůze SDH Světlá
DESCRIPTION:
URL:https://www.obecsvetla.cz/event/vyrocni-schuze-sdh-svetla-2/
LOCATION:Světlá 55\, Světlá\, Jihomoravský\, 679 63\, Česká republika
END:VEVENT
BEGIN:VEVENT
DTSTART;TZID=Europe/Prague:20230101T180000
DTEND;TZID=Europe/Prague:20230101T190000
DTSTAMP:20260423T132501
CREATED:20221207T193806Z
LAST-MODIFIED:20221207T193806Z
UID:4117-1672596000-1672599600@www.obecsvetla.cz
SUMMARY:Novoroční přípitek s ohňostrojem (výletiště)
DESCRIPTION:
URL:https://www.obecsvetla.cz/event/novorocni-pripitek-s-ohnostrojem-vyletiste/
LOCATION:Světlá 55\, Světlá\, Jihomoravský\, 679 63\, Česká republika
END:VEVENT
BEGIN:VEVENT
DTSTART;TZID=Europe/Prague:20230107T200000
DTEND;TZID=Europe/Prague:20230108T200000
DTSTAMP:20260423T132501
CREATED:20221218T093904Z
LAST-MODIFIED:20221218T093904Z
UID:4158-1673121600-1673208000@www.obecsvetla.cz
SUMMARY:Světelský ples
DESCRIPTION:
URL:https://www.obecsvetla.cz/event/svetelsky-ples/
LOCATION:Cetkovice\, Cetkovice\, Jihomoravský\, 679 38\, Česká republika
END:VEVENT
END:VCALENDAR